BEGIN:VCALENDAR
VERSION:2.0
PRODID:-//Le Petit Théatre du Vieux Noranda - ECPv6.9.0//NONSGML v1.0//EN
CALSCALE:GREGORIAN
METHOD:PUBLISH
X-WR-CALNAME:Le Petit Théatre du Vieux Noranda
X-ORIGINAL-URL:https://petittheatre.org
X-WR-CALDESC:Events for Le Petit Théatre du Vieux Noranda
REFRESH-INTERVAL;VALUE=DURATION:PT1H
X-Robots-Tag:noindex
X-PUBLISHED-TTL:PT1H
BEGIN:VTIMEZONE
TZID:America/Halifax
BEGIN:DAYLIGHT
TZOFFSETFROM:-0400
TZOFFSETTO:-0300
TZNAME:ADT
DTSTART:20250309T060000
END:DAYLIGHT
BEGIN:STANDARD
TZOFFSETFROM:-0300
TZOFFSETTO:-0400
TZNAME:AST
DTSTART:20251102T050000
END:STANDARD
END:VTIMEZONE
BEGIN:VEVENT
DTSTART;TZID=America/Halifax:20250403T180000
DTEND;TZID=America/Halifax:20250403T193000
DTSTAMP:20260419T203211
CREATED:20250331T195059Z
LAST-MODIFIED:20250404T182526Z
UID:10000047-1743703200-1743708600@petittheatre.org
SUMMARY:Présentation des jeux vidéo des élèves de l’école La Source
DESCRIPTION:Soirée de présentation des jeux vidéo des élèves \n📅 Date : Ce jeudi📍 Lieu : Petit Théâtre du Vieux Noranda🕕 Heure : 18h à 19h30 \nAprès 15 semaines d’apprentissage\, d’exploration et de création\, les élèves de la classe de douance de l’école secondaire La Source sont fier·es de vous inviter à la présentation officielle de leurs jeux vidéo ! \nGuidé·es par Philippe Turcot-Roy\, un professionnel du domaine\, iels ont développé leurs propres jeux en 2D à l’aide du logiciel Construct 3. \n💡 Au programme :🎮 Démonstration interactive des jeux créés par les élèves🎤 Discussions avec les jeunes créateur·trices sur leur processus de conception \nQue vous soyez passionné·e de jeux vidéo\, curieux·se de découvrir le travail des élèves ou simplement en quête d’inspiration\, cette soirée est une occasion unique de plonger dans l’univers créatif de la nouvelle génération ! \n✨ Entrée libre – Venez encourager nos jeunes talents !
URL:https://petittheatre.org/evenement/presentation-des-jeux-video-des-eleves-de-lecole-la-source/
CATEGORIES:Ateliers
ATTACH;FMTTYPE=image/webp:https://petittheatre.org/wp-content/uploads/2024/07/20240220_AtelierJeuVideo_JeannePerrin-05-copie.webp
ORGANIZER;CN="Petit Th%C3%A9%C3%A2tre du Vieux Noranda":MAILTO:info@petittheatre.org
END:VEVENT
BEGIN:VEVENT
DTSTART;TZID=America/Halifax:20250412T140000
DTEND;TZID=America/Halifax:20250413T170000
DTSTAMP:20260419T203211
CREATED:20250122T160013Z
LAST-MODIFIED:20250409T212325Z
UID:10000034-1744466400-1744563600@petittheatre.org
SUMMARY:BIEN DANS MA PEAU - ATELIER ÉCRITURE ET COMPOSITION MUSICALE
DESCRIPTION:Tu as envie d’utiliser une manière plus créative pour faire passer des messages et t’exprimer librement ?  Cet atelier est pour toi !  \nLe samedi 12 avril\, tu seras accompagné.e par Gabrielle Demers\, mère-poète-artiste visuelle multidisciplinaire\, pour un atelier d’écriture créative d’un texte collectif abordant les questions de l’affirmation et l’expression de soi. Le lendemain\, les musiciennes Julie Mercier et Lou-Raphaëlle Paul-Allaire t’aideront à mettre en musique tes mots à l’aide d’un logiciel de mixage musical. Tu es musicien.ne ? Apporte ton/tes instruments ! Sinon\, le chant et tes mains seront tes meilleurs alliés !  \nAucun prérequis n’est nécessaire. Rendez-vous au Petit Théâtre ! \nL’inscription à l’atelier garantit une paire de billets pour le concert de Calamine. \nCalamine – Décroissance personnelle\, 26 avril\, à 21h \nRappeuse queer\, féministe et anti-capitaliste\, Calamine offre un concert qui se présente comme un manifeste de l’irrévérence queer\, un processus festif et désinvolte de l’hétéro-patriarcat et une complainte éco-anxieuse dont l’enthousiasme et le cynisme se concurrencent. Face à l’indécence néo-libérale\, la décroissance personnelle convie à danser sur la déchéance du monde\, embrasser la mauvaise foi intellectuelle des populistes et se réapproprier notre statut de déchet dans une perspective d’empouvoirement.
URL:https://petittheatre.org/evenement/bien-dans-ma-peau-atelier-ecriture-musicale/
LOCATION:Petit Théatre du Vieux Noranda\, 112 7e rue\, Rouyn-Noranda\, QC\, J9X 1Z9\, Canada
CATEGORIES:Ateliers,Musique
ATTACH;FMTTYPE=image/webp:https://petittheatre.org/wp-content/uploads/2025/01/Bien-dans-ma-peau-Page-Web-2-1.webp
ORGANIZER;CN="Petit Th%C3%A9%C3%A2tre du Vieux Noranda":MAILTO:info@petittheatre.org
END:VEVENT
END:VCALENDAR