BEGIN:VCALENDAR
VERSION:2.0
PRODID:-//Le Petit Théatre du Vieux Noranda - ECPv6.9.0//NONSGML v1.0//EN
CALSCALE:GREGORIAN
METHOD:PUBLISH
X-WR-CALNAME:Le Petit Théatre du Vieux Noranda
X-ORIGINAL-URL:https://petittheatre.org
X-WR-CALDESC:Events for Le Petit Théatre du Vieux Noranda
REFRESH-INTERVAL;VALUE=DURATION:PT1H
X-Robots-Tag:noindex
X-PUBLISHED-TTL:PT1H
BEGIN:VTIMEZONE
TZID:America/Halifax
BEGIN:DAYLIGHT
TZOFFSETFROM:-0400
TZOFFSETTO:-0300
TZNAME:ADT
DTSTART:20260308T060000
END:DAYLIGHT
BEGIN:STANDARD
TZOFFSETFROM:-0300
TZOFFSETTO:-0400
TZNAME:AST
DTSTART:20261101T050000
END:STANDARD
END:VTIMEZONE
BEGIN:VEVENT
DTSTART;TZID=America/Halifax:20260316T190000
DTEND;TZID=America/Halifax:20260316T210000
DTSTAMP:20260423T061404
CREATED:20251201T210031Z
LAST-MODIFIED:20260316T182543Z
UID:10000084-1773687600-1773694800@petittheatre.org
SUMMARY:ANNULÉ - Les Dauphins et les Licornes
DESCRIPTION:Nous sommes contraints d’annuler le spectacle de ce soir en raison de la température. Pour toutes questions\, écrivez-nous sur Messenger ou au info@petittheatre.org.\n \nComme un voyage en Utopie… qui dérape!\n \nEn scène\, une enfant\, des danseurs neurotypiques et d’autres issus de la neurodiversité. Ils se partagent le monde en deux catégories ludiques et ridiculement arbitraires : d’un côté les dauphins et de l’autre les licornes. \nS’ensuit une sorte de rituel fascinant\, comme une tentative de créer ensemble\, en collectif\, un spectacle qui sera sans cesse dérangé par la recherche frénétique du regard de l’autre\, de son approbation. Parfois\, aussi\, les interprètes se payent le luxe d’être authentiquement eux-mêmes : accueillir ses failles\, sa fragilité\, retourner sa peau comme un gant pour en observer les coutures et les fils qui dépassent. Ces aller-retours effrénés entre le Soi et l’Autre placent les danseurs et danseuses dans un équilibre précaire. Et nous\, spectateurs.trices blottis.es dans l’ombre\, sommes les témoins privilégiés de leur beauté\, de leur humanité\, et de leur monstruosité. \nOn retrouve à nouveau dans Les Dauphins et les Licornes la signature chorégraphique de la compagnie: danse contemporaine\, gigue\, prises de paroles décomplexées\, théâtralité performative\, autant de langages nécessaires à l’apparition d’une réelle dramaturgie de la diversité. Avec ce nouvel opus\, la chorégraphe Maïgwenn Desbois se laisse guider par ses interprètes pour mettre en scène un grand bal punk et kitch\, où les arcs-en-ciel sont parfois éclaboussés de sang. \n16 mars – 19h00
URL:https://petittheatre.org/evenement/les-dauphins-et-les-licornes/
LOCATION:Petit Théatre du Vieux Noranda\, 112 7e rue\, Rouyn-Noranda\, QC\, J9X 1Z9\, Canada
CATEGORIES:Danse
ATTACH;FMTTYPE=image/jpeg:https://petittheatre.org/wp-content/uploads/2025/11/Dauphins_et_Licornes-scaled.jpg
ORGANIZER;CN="Petit Th%C3%A9%C3%A2tre du Vieux Noranda":MAILTO:info@petittheatre.org
END:VEVENT
BEGIN:VEVENT
DTSTART;TZID=America/Halifax:20260319T190000
DTEND;TZID=America/Halifax:20260319T210000
DTSTAMP:20260423T061404
CREATED:20251201T210034Z
LAST-MODIFIED:20260227T175826Z
UID:10000085-1773946800-1773954000@petittheatre.org
SUMMARY:Futur Danse
DESCRIPTION:Une soirée de danse qui entre en contact avec le mouvement de demain!\n \nLe programme double FUTUR DANSE vous invite à découvrir les œuvres d’artistes émergent·e·s\, vous entraînant au contact d’une danse surprenante et vibrante. \nDécouvrez le solo de Nina Chati où le popping et danse contemporaine s’entrelacent pour donner naissance à un personnage en métamorphose. Dans IN NA\, un solo pluridisciplinaire captivant\, elle fusionne Popping et danse contemporaine pour explorer la genèse d’un personnage à travers des métamorphoses poétiques. \nEnsuite\, dans un langage corporel organique\, les danseurs de la chorégraphie d’Adrian W.S. Batt s’affranchissent des stéréotypes pour révéler une masculinité en harmonie avec l’environnement. Son spectacle\, Homines per Terram réunit trois danseurs dans une ode chorégraphique à la nature\, proposant une vision régénératrice de la masculinité. \nUne soirée sous le signe de l’audace\, à la rencontre de chorégraphes et d’interprètes plein·e·s d’avenir\, pour vibrer au rythme de la danse de demain. \n19 mars – 19h00
URL:https://petittheatre.org/evenement/futur-danse-1/
LOCATION:Petit Théatre du Vieux Noranda\, 112 7e rue\, Rouyn-Noranda\, QC\, J9X 1Z9\, Canada
CATEGORIES:Danse
ATTACH;FMTTYPE=image/png:https://petittheatre.org/wp-content/uploads/2025/12/Artboard-6FD-2026.png
ORGANIZER;CN="Petit Th%C3%A9%C3%A2tre du Vieux Noranda":MAILTO:info@petittheatre.org
END:VEVENT
END:VCALENDAR