BEGIN:VCALENDAR
VERSION:2.0
PRODID:-//Le Petit Théatre du Vieux Noranda - ECPv6.9.0//NONSGML v1.0//EN
CALSCALE:GREGORIAN
METHOD:PUBLISH
X-WR-CALNAME:Le Petit Théatre du Vieux Noranda
X-ORIGINAL-URL:https://petittheatre.org
X-WR-CALDESC:Events for Le Petit Théatre du Vieux Noranda
REFRESH-INTERVAL;VALUE=DURATION:PT1H
X-Robots-Tag:noindex
X-PUBLISHED-TTL:PT1H
BEGIN:VTIMEZONE
TZID:America/Halifax
BEGIN:DAYLIGHT
TZOFFSETFROM:-0400
TZOFFSETTO:-0300
TZNAME:ADT
DTSTART:20250309T060000
END:DAYLIGHT
BEGIN:STANDARD
TZOFFSETFROM:-0300
TZOFFSETTO:-0400
TZNAME:AST
DTSTART:20251102T050000
END:STANDARD
END:VTIMEZONE
BEGIN:VEVENT
DTSTART;TZID=America/Halifax:20250321T200000
DTEND;TZID=America/Halifax:20250321T220000
DTSTAMP:20260424T003720
CREATED:20240911T163448Z
LAST-MODIFIED:20250107T144315Z
UID:10000021-1742587200-1742594400@petittheatre.org
SUMMARY:Primavera di Noranda
DESCRIPTION:20 ans après leur venue au Petit Théâtre du Vieux Noranda\, Marco Calliari et Sylvie Richard vous proposent une soirée italo-festive mariant danse et musique. Accompagnés de trois musiciens\, ils nous feront célébrer l’arrivée du printemps dans une ambiance de fête familiale italienne. Joignez-vous à nous ! \nPréparez-vous à danser !
URL:https://petittheatre.org/evenement/primavera-di-noranda/
LOCATION:Petit Théatre du Vieux Noranda\, 112 7e rue\, Rouyn-Noranda\, QC\, J9X 1Z9\, Canada
CATEGORIES:Danse,Musique
ATTACH;FMTTYPE=image/webp:https://petittheatre.org/wp-content/uploads/2024/09/10338614_10153187354543009_5636922212197951119_o-copie.webp
ORGANIZER;CN="Petit Th%C3%A9%C3%A2tre du Vieux Noranda":MAILTO:info@petittheatre.org
END:VEVENT
END:VCALENDAR