BEGIN:VCALENDAR
VERSION:2.0
PRODID:-//Le Petit Théatre du Vieux Noranda - ECPv6.9.0//NONSGML v1.0//EN
CALSCALE:GREGORIAN
METHOD:PUBLISH
X-ORIGINAL-URL:https://petittheatre.org
X-WR-CALDESC:Events for Le Petit Théatre du Vieux Noranda
REFRESH-INTERVAL;VALUE=DURATION:PT1H
X-Robots-Tag:noindex
X-PUBLISHED-TTL:PT1H
BEGIN:VTIMEZONE
TZID:America/Halifax
BEGIN:DAYLIGHT
TZOFFSETFROM:-0400
TZOFFSETTO:-0300
TZNAME:ADT
DTSTART:20240310T060000
END:DAYLIGHT
BEGIN:STANDARD
TZOFFSETFROM:-0300
TZOFFSETTO:-0400
TZNAME:AST
DTSTART:20241103T050000
END:STANDARD
END:VTIMEZONE
BEGIN:VEVENT
DTSTART;TZID=America/Halifax:20241121T190000
DTEND;TZID=America/Halifax:20241121T210000
DTSTAMP:20260419T215555
CREATED:20240910T210622Z
LAST-MODIFIED:20240913T025754Z
UID:10000013-1732215600-1732222800@petittheatre.org
SUMMARY:350 jours autour du monde en famille avec Marie-Hélène Basque et Jacquelin
DESCRIPTION:La Famille Petit (Marie-Hélène Basque\, Jacquelin\, Malaika\, Nando\, Collin et Joey Petit)  \nCinq continents touchés\, près d’une vingtaine de pays\, plus de 21\,000 fichiers photo/vidéo enregistrés\, environ 22\,000 km conduits et un peu moins de 100\,000$ de dépensé… Le chiffre magique? ZÉRO regret… et des souvenirs incalculables!  \nPrendre une pause de nos vies et parcourir le monde avec nos 4 enfants… Est-ce que c’est possible?  D’une idée à un rêve\, en passant par une multitude de plans\, pour enfin devenir une réalité en mai 2022\, le moment de notre grand départ. Un voyage au long cours pour une famille de 6 personnes implique son lot de défis\, des hauts et des bas\, des impondérables comme des moments et des rencontres inoubliables. \nOn vous invite à faire avec nous le survol de cette réalité qui fut la nôtre pendant 350 jours. Sortez des sentiers battus en notre compagnie pour découvrir en mots et en images des endroits incroyables\, parsemés d’anecdotes savoureuses… \net surtout laissez-vous inspirés à oser faire de vos rêves… vos réalités.
URL:https://petittheatre.org/evenement/350-jours-autour-du-monde-en-famille-avec-marie-helene-basque-et-jacquelin/
LOCATION:Petit Théatre du Vieux Noranda\, 112 7e rue\, Rouyn-Noranda\, QC\, J9X 1Z9\, Canada
CATEGORIES:Petits explorateurs
ATTACH;FMTTYPE=image/webp:https://petittheatre.org/wp-content/uploads/2024/09/i╠eledePa╠eques1-copie.webp
ORGANIZER;CN="Petit Th%C3%A9%C3%A2tre du Vieux Noranda":MAILTO:info@petittheatre.org
END:VEVENT
END:VCALENDAR