BEGIN:VCALENDAR
VERSION:2.0
PRODID:-//Le Petit Théatre du Vieux Noranda - ECPv6.9.0//NONSGML v1.0//EN
CALSCALE:GREGORIAN
METHOD:PUBLISH
X-WR-CALNAME:Le Petit Théatre du Vieux Noranda
X-ORIGINAL-URL:https://petittheatre.org
X-WR-CALDESC:Events for Le Petit Théatre du Vieux Noranda
REFRESH-INTERVAL;VALUE=DURATION:PT1H
X-Robots-Tag:noindex
X-PUBLISHED-TTL:PT1H
BEGIN:VTIMEZONE
TZID:America/Halifax
BEGIN:DAYLIGHT
TZOFFSETFROM:-0400
TZOFFSETTO:-0300
TZNAME:ADT
DTSTART:20250309T060000
END:DAYLIGHT
BEGIN:STANDARD
TZOFFSETFROM:-0300
TZOFFSETTO:-0400
TZNAME:AST
DTSTART:20251102T050000
END:STANDARD
END:VTIMEZONE
BEGIN:VEVENT
DTSTART;TZID=America/Halifax:20251009T190000
DTEND;TZID=America/Halifax:20251009T203000
DTSTAMP:20260419T085728
CREATED:20250904T213040Z
LAST-MODIFIED:20250909T152944Z
UID:10000066-1760036400-1760041800@petittheatre.org
SUMMARY:Les Poissons rouges
DESCRIPTION:Une pièce de théâtre à saveur scientifique\, suivie d’une conférence interactive\, qui mettent en lumière la science et nos cerveaux rebelles ! \n« Alex\, 19 ans\, étudie au cégep en environnement. Très active sur les réseaux sociaux\, elle décortique la méthode scientifique sur sa chaîne Twitch. Mais son travail est remis en question par des internautes qui réfutent ses affirmations. C’est la guerre sur l’Internet ! Et ce n’est pas tout : Alex remarque aussi que la science est malmenée dans son propre foyer ! \n“La terre est-elle ronde ou plate ?” “Y a-t-il plus d’accouchement les soirs de pleine lune ?” Pour le plus grand malheur d’Alex\, les esprits se ferment et s’échauffent. \nQu’est-ce que la science ? Pouvons-nous encore nous entendre sur les faits ? Est-il possible de voir le monde qui nous entoure\, autrement que depuis notre propre bocal ? » \n9 octobre – 11h00
URL:https://petittheatre.org/evenement/les-poissons-rouges/
LOCATION:Petit Théatre du Vieux Noranda\, 112 7e rue\, Rouyn-Noranda\, QC\, J9X 1Z9\, Canada
CATEGORIES:Théâtre
ATTACH;FMTTYPE=image/jpeg:https://petittheatre.org/wp-content/uploads/2025/08/Poissons-rouges-image-scaled.jpg
ORGANIZER;CN="Petit Th%C3%A9%C3%A2tre du Vieux Noranda":MAILTO:info@petittheatre.org
END:VEVENT
END:VCALENDAR